BEGIN:VCALENDAR
VERSION:2.0
PRODID:-//ChamberMaster//Event Calendar 2.0//EN
METHOD:PUBLISH
X-PUBLISHED-TTL:P1H
REFRESH-INTERVAL:P1H
CALSCALE:GREGORIAN
BEGIN:VTIMEZONE
TZID:America/New_York
BEGIN:DAYLIGHT
RRULE:FREQ=YEARLY;BYMONTH=3;BYDAY=2SU
DTSTART:20070101T000000
TZOFFSETFROM:-0500
TZOFFSETTO:-0400
TZNAME:Eastern Daylight Time
END:DAYLIGHT
BEGIN:STANDARD
RRULE:FREQ=YEARLY;BYMONTH=11;BYDAY=1SU
DTSTART:20070101T000000
TZOFFSETFROM:-0400
TZOFFSETTO:-0500
TZNAME:Eastern Standard Time
END:STANDARD
END:VTIMEZONE
BEGIN:VEVENT
DTSTART;TZID=America/New_York:20260512T100000
DTEND;TZID=America/New_York:20260512T104500
X-MICROSOFT-CDO-ALLDAYEVENT:FALSE
SUMMARY:[Zoom] GSP Member Webinar | Cybersecurity 101: Understand the Risks\, Protect Your Data
DESCRIPTION:Cybersecurity has become a critical priority as businesses continue to be prime targets for cyberattacks. In this webinar\, Integrated Network Concepts will explain the most common risks\, the real financial impact of ransomware incidents\, and the essential steps every business must take to build an effective cybersecurity response plan. Participants will gain practical guidance\, an action framework\, and useful resources to strengthen their defenses. The message is clear: hope and denial are not strategies. By taking informed action now\, business owners can feel more confident and better prepared to protect their operations from evolving threats.
X-ALT-DESC;FMTTYPE=text/html:Cybersecurity has become a critical priority as businesses continue to be prime targets for cyberattacks. In this webinar\, Integrated Network Concepts will explain the most common risks\, the real financial impact of ransomware incidents\, and the essential steps every business must take to build an effective cybersecurity response plan. Participants will gain practical guidance\, an action framework\, and useful resources to strengthen their defenses. The message is clear: hope and denial are not strategies. By taking informed action now\, business owners can feel more confident and better prepared to protect their operations from evolving threats.
LOCATION:
UID:e.4359.1421288
SEQUENCE:3
DTSTAMP:20260425T132735Z
URL:https://business.greatersandusky.com/business-milestone-events/Details/zoom-gsp-member-webinar-cybersecurity-101-understand-the-risks-protect-your-data-1680460?sourceTypeId=Hub
END:VEVENT
END:VCALENDAR
